BEGIN:VCALENDAR
VERSION:2.0
PRODID:-//hacksw/handcal//NONSGML v1.0//EN
BEGIN:VEVENT
SUMMARY:Semaine Mondiale de l'Orientation : Marche & Course d'Orientation
UID:e0ca27e8-6c93-44ba-9e30-809753548b8a
DTSTART:20260523T080000Z
DTEND:20260523T150000Z
LOCATION:Localisation parking du plan d'eau 72560 CHANGE
CATEGORIES:Manifestation
STATUS:
DESCRIPTION:<p>A l'occasion de la Semaine Mondiale de l'Orientation,
 les jeunes de la section CO du club LMA72 organisent une animation
 d'orientation :</p>
 
 <ul>
 	<li>vous faites le nombre de balises que
 vous voulez (30 maximun) dans l'ordre de vous choix ou vous
 choisissez la formule en ordre impose</li>
 	<li>avec qui vous
 souhaitez, solo, famille, ami...</li>
 	<li>a votre rythme, marche ou
 course</li>
 	<li>comptez entre 4 et 10
 km</li>
 </ul>
 
 <p><strong>Ouvert a toutes et a
 tous</strong></p>
 
 <p><strong><a
 href="https://forms.gle/PhwrnutSMCDeSVHK9"
 target="_blank"><u>Inscriptions sur ce lien</u></a> </strong>pour
 nous permettre de prevoir le bon nombre de cartes<br />
 Possibilite
 de s'inscrire sur place dans la limite des cartes
 restantes</p>
 
 <p><strong>Tarifs</strong><br />
 - gratuit pour tous
 les mineurs et pour l'adulte accompagnateur(trice) de l'equipe avec
 des jeunes<br />
 - 6 euros pour 1 adulte (sauf celui ou celle qui
 accompagne), 5 euros pour le 2eme adulte, 1 euro par adulte
 supplementaire<br />
 Paiement sur place</p>
 
 <p><em>Pas besoin de
 certificat medical.</em></p>
 
 <p><strong>Horaires</strong><br />
 -
 departs libres entre 10h et 16h<br />
 - fermeture a
 17h</p>
 
 <p><strong>Lieu de rendez-vous et stationnement</strong><br
 />
 Rendez-vous au Parking du plan d'eau, 72560 Change</p>
URL;VALUE=URI:https://www.lemansathletisme72.com/evenements/2026/05/23/semaine-mondiale-de-lorientation-marche-course-dorientation-2431614
END:VEVENT
END:VCALENDAR
