BEGIN:VCALENDAR
VERSION:2.0
PRODID:-//hacksw/handcal//NONSGML v1.0//EN
BEGIN:VEVENT
SUMMARY:Elle et lui
UID:c71ed203-bfb2-4e01-bbfb-754e7708d7cd
DTSTART:20260530T220000Z
DTEND:20260531T220000Z
LOCATION:Localisation   
CATEGORIES:Sportif
STATUS:
DESCRIPTION:<p>Il s'agira de la 22e edition.</p>
 
 <p>Cette epreuve se
 deroule sur un parcours nature de 5 kms et se court en duo mixte. Une
 premiere boucle de 5 kms est realisee par la feminine qui passe le
 relais a son partenaire qui realisera la meme boucle. Enfin une 3e
 boucle est courue par les deux partenaires qui franchiront la ligne
 d'arrivee ensemble.</p>
 
 <p>Le depart sera donne a 10 h - parking
 gymnase Andre Malraux a ALLONNES 72</p>
 
 <p> </p>
 
 <h1><a
 href="https://www.klikego.com/inscription/course-elle-et-lui-2026/running-course-a-pied/1741127000940-2"
 target="_blank">Inscription sur le site de Klikego en suivant le lien
 🔗 </a></h1>
URL;VALUE=URI:https://www.lemansathletisme72.com/evenements/2026/05/31/elle-et-lui-2432547
END:VEVENT
END:VCALENDAR
