BEGIN:VCALENDAR
VERSION:2.0
PRODID:-//hacksw/handcal//NONSGML v1.0//EN
BEGIN:VEVENT
SUMMARY:Trail des Forges Claude Fortin
UID:ada81ef0-2e87-4481-89bd-fa073fd3b469
DTSTART:20260606T220000Z
DTEND:20260607T220000Z
LOCATION:Localisation   
CATEGORIES:Sportif
STATUS:
DESCRIPTION:<p>22eme Edition.</p>
 
 <p>Le trail des forges "Claude
 Fortin" est le plus ancien trail du departement (cree en 2022), c'est
 aussi :</p>
 
 <p>. le 1er trail en nombre de participants,</p>
 
 <p>.
 plus de 20 departements representes chaque annee</p>
 
 <p>. le seul
 trail labelise regional sur le 32km en
 sarthe</p>
 
 <p> </p>
 
 <p>Dossards avec puces limite a 1400 au
 total</p>
 
 <p> </p>
 
 <p>Recompense podium :</p>
 
 <p>. les 1er(es) de
 chaque categorie de chaque course.</p>
 
 <p>(Etre present a la remise
 des recompenses le jour du trail)</p>
 
 <p> </p>
 
 <p>Consignes pour
 les sacs</p>
 
 <p>Denivele : 9KM = 145M / 16KM =200M /
 32KM=525M</p>
 
 <p>Buvette et restauration possible sur
 place</p>
 
 <p> </p>
 
 <h1><a
 href="https://www.klikego.com/inscription/trail-des-forges-claude-fortin-2026/running-course-a-pied/1520927589277-8"
 target="_blank">Inscription ici en suivant ce lien 🔗</a> </h1>
URL;VALUE=URI:https://www.lemansathletisme72.com/evenements/2026/06/07/trail-des-forges-claude-fortin-2432551
END:VEVENT
END:VCALENDAR
