BEGIN:VCALENDAR
VERSION:2.0
PRODID:-//hacksw/handcal//NONSGML v1.0//EN
BEGIN:VEVENT
SUMMARY:Le trail des Jasnieres
UID:11bcc3a1-3bba-4352-bec3-a48b8e28455a
DTSTART:20260627T220000Z
DTEND:20260628T220000Z
LOCATION:Localisation   
CATEGORIES:Sportif
STATUS:
DESCRIPTION:<h3><span
 style="color:#e74c3c;"><strong>COMPLET</strong></span></h3>
 
 <p> </p>
 
 <p>Le
 Trail des Jasnieres, c’est une plongee brute et precise au cœur
 des coteaux du Loir, la ou les vignes dessinent le terrain de jeu et
 ou chaque foulee demande un minimum d’engagement. Trois formats, un
 decor prive et une seule date possible pour y poser les pieds : le
 jour J. Pas de rattrapage, pas de
 replay.</p>
 
 <p> </p>
 
 <p><strong>Ce que tu vas trouver sur place
 :</strong></p>
 
 <p> </p>
 
 <ul>
 	<li>
 	<p>Trois formats de trail pour
 choisir ton degre d’intensite ;</p>
 	</li>
 	<li>
 	<p>Une
 organisation cadree et attentive : ravitaillements liquides sur les
 parcours, solide sur les 18 et 26 km, ravito final pour tout le monde
 a l’arrivee ;</p>
 	</li>
 	<li>
 	<p>Une restauration et une
 buvette.</p>
 	</li>
 </ul>
 
 <p> </p>
 
 <p><strong>Focus parcours
 :</strong></p>
 
 <p> </p>
 
 <p>Le Trail des Jasnieres te fait
 traverser un territoire habituellement ferme au public : les vignes
 des coteaux du Loir et du Jasnieres. Un domaine prive, accessible
 uniquement le jour de la course, et qu’il faudra respecter au
 centimetre pres. Pas question de jouer au traileur explorateur le
 reste de l’annee : ce privilege se merite, et il est
 ephemere.</p>
 
 <p> </p>
 
 <p>Le terrain alterne entre chemins,
 passages vallonnes et relances qui piquent juste ce qu’il faut. Le
 denivele est progressif, jamais gratuit, toujours lisible. Que tu
 partes sur 11, 18 ou 26 km, tu devras gerer ton effort, lever un peu
 la tete… et rester concentre jusqu’au
 bout.</p>
 
 <p> </p>
 
 <p><strong>3 (tres) bonnes raisons de
 participer :</strong></p>
 
 <p> </p>
 
 <ul>
 	<li>
 	<p>Courir sur des
 parcours exclusifs, ouverts une seule fois dans l’annee, et ca
 change tout ;</p>
 	</li>
 	<li>
 	<p>Trouver le bon format pour te
 challenger, sans artifices ni surenchere
 ;</p>
 	</li>
 	<li>
 	<p>Participer a un trail limite a 500 coureurs,
 ou tu n’es pas un numero perdu dans la masse, mais un acteur a part
 entiere de la journee.</p>
 	</li>
 </ul>
URL;VALUE=URI:https://www.lemansathletisme72.com/evenements/2026/06/28/le-trail-des-jasnieres-2432558
END:VEVENT
END:VCALENDAR
